BEGIN:VCALENDAR
VERSION:2.0
PRODID:-//aiMPULSA - ECPv6.15.20//NONSGML v1.0//EN
CALSCALE:GREGORIAN
METHOD:PUBLISH
X-WR-CALNAME:aiMPULSA
X-ORIGINAL-URL:https://www.aimpulsa.com
X-WR-CALDESC:Eventos para aiMPULSA
REFRESH-INTERVAL;VALUE=DURATION:PT1H
X-Robots-Tag:noindex
X-PUBLISHED-TTL:PT1H
BEGIN:VTIMEZONE
TZID:Europe/Paris
BEGIN:DAYLIGHT
TZOFFSETFROM:+0100
TZOFFSETTO:+0200
TZNAME:CEST
DTSTART:20210328T010000
END:DAYLIGHT
BEGIN:STANDARD
TZOFFSETFROM:+0200
TZOFFSETTO:+0100
TZNAME:CET
DTSTART:20211031T010000
END:STANDARD
BEGIN:DAYLIGHT
TZOFFSETFROM:+0100
TZOFFSETTO:+0200
TZNAME:CEST
DTSTART:20220327T010000
END:DAYLIGHT
BEGIN:STANDARD
TZOFFSETFROM:+0200
TZOFFSETTO:+0100
TZNAME:CET
DTSTART:20221030T010000
END:STANDARD
BEGIN:DAYLIGHT
TZOFFSETFROM:+0100
TZOFFSETTO:+0200
TZNAME:CEST
DTSTART:20230326T010000
END:DAYLIGHT
BEGIN:STANDARD
TZOFFSETFROM:+0200
TZOFFSETTO:+0100
TZNAME:CET
DTSTART:20231029T010000
END:STANDARD
END:VTIMEZONE
BEGIN:VEVENT
DTSTART;TZID=Europe/Paris:20220922T190000
DTEND;TZID=Europe/Paris:20220922T210000
DTSTAMP:20260424T020848
CREATED:20220927T092137Z
LAST-MODIFIED:20221013T105537Z
UID:4454-1663873200-1663880400@www.aimpulsa.com
SUMMARY:IA y el Ejercicio Profesional del Derecho
DESCRIPTION:Ponentes\n\n\n\nDiana Abreu (Jurimetría): Coordinador de proyectos en el área de Grandes Cuentas de la LEYLuis Posado (Socio del área de privacidad y derecho digital de Ecix Group)
URL:https://www.aimpulsa.com/aimpulsa-events/ia-y-el-ejercicio-profesional-del-derecho/
LOCATION:Salón de Grados de la Facultad de Psicología – Universidad de Granada\, Campus Universitario Cartuja\, 18011 Granada\, Granada\, 18011\, España
END:VEVENT
BEGIN:VEVENT
DTSTART;TZID=Europe/Paris:20220929T180000
DTEND;TZID=Europe/Paris:20220929T180000
DTSTAMP:20260424T020848
CREATED:20220927T093215Z
LAST-MODIFIED:20221013T105604Z
UID:4464-1664474400-1664474400@www.aimpulsa.com
SUMMARY:SEMINARIO TECNEX Does AI threaten democrazy? AI and the revision of political beliefs
DESCRIPTION:Ponente\n\n\n\nMark Coeckelbergh (Catedrático y Vicedecano de Filosofía y Educación de la Universidad de Viena)
URL:https://www.aimpulsa.com/aimpulsa-events/seminario-tecnex-titulo-does-ai-threaten-democrazy-ai-and-the-revision-of-political-beliefs/
LOCATION:Salón de Grados de la Facultad de Psicología – Universidad de Granada\, Campus Universitario Cartuja\, 18011 Granada\, Granada\, 18011\, España
ATTACH;FMTTYPE=image/png:https://www.aimpulsa.com/wp-content/uploads/2022/09/events29-09-2022_18-00.png
END:VEVENT
END:VCALENDAR