BEGIN:VCALENDAR
VERSION:2.0
PRODID:-//aiMPULSA - ECPv6.15.20//NONSGML v1.0//EN
CALSCALE:GREGORIAN
METHOD:PUBLISH
X-WR-CALNAME:aiMPULSA
X-ORIGINAL-URL:https://www.aimpulsa.com
X-WR-CALDESC:Eventos para aiMPULSA
REFRESH-INTERVAL;VALUE=DURATION:PT1H
X-Robots-Tag:noindex
X-PUBLISHED-TTL:PT1H
BEGIN:VTIMEZONE
TZID:UTC
BEGIN:STANDARD
TZOFFSETFROM:+0000
TZOFFSETTO:+0000
TZNAME:UTC
DTSTART:20210101T000000
END:STANDARD
END:VTIMEZONE
BEGIN:VEVENT
DTSTART;TZID=UTC:20221114T103000
DTEND;TZID=UTC:20221114T123000
DTSTAMP:20260423T231045
CREATED:20221114T073040Z
LAST-MODIFIED:20221114T124627Z
UID:4840-1668421800-1668429000@www.aimpulsa.com
SUMMARY:The Application of AI Technologies to Support the Combating of Money Laundering and the Financing of Terrorism and Weapons of Mass Destruction. A talk with Louis de Koker and John Zeleznikow
DESCRIPTION:El lunes 14 de noviembre de 2022\, a las 10:30 horas\, tendrá lugar en la Sala de Vistas de la Facultad de Derecho de la Universidad de Granada\, una charla-coloquio en la que el Dr. John Zeleznikow\, Visiting Scholar en la Unidad de Excelencia de Investigación Sociedad Digital: Seguridad y Protección de Derechos y el Dr. Louis de Koker\, Catedrático en la Facultad de Derecho de La Trobe (Australia)\, con una trayectoria investigadora dilatada en materia de delitos financieros y consultor principal de política sobre delitos financieros del Grupo Consultivo de Ayuda a los Pobres y miembro de un equipo del Banco Mundial encargado de la investigación de los controles de los delitos financieros relacionados con el dinero móvil\, abordarán el importante papel que puede desempeñar la IA para aumentar la eficacia de las medidas en materia de lucha contra el blanqueo de capitales\, la financiación del terrorismo y la proliferación de armas de destrucción masiva\, examinando la visión tecnológica proporcionada por el Grupo de Acción Financiera Internacional. \n\n\n\nEl evento podrá seguirse de forma remota accediendo a la sala virtual a través del siguiente enlace. \n\n\n\nContraseña de acceso: 934740
URL:https://www.aimpulsa.com/aimpulsa-events/the-application-of-ai-technologies-to-support-the-combating-of-money-laundering-and-the-financing-of-terrorism-and-weapons-of-mass-destruction-a-talk-with-louis-de-koker-and-john-zeleznikow/
ATTACH;FMTTYPE=image/jpeg:https://www.aimpulsa.com/wp-content/uploads/2022/11/Charla-Louis-de-Koke-redr-scaled-1-1.jpg
END:VEVENT
BEGIN:VEVENT
DTSTART;TZID=UTC:20221116T090000
DTEND;TZID=UTC:20221116T120000
DTSTAMP:20260423T231045
CREATED:20221116T074137Z
LAST-MODIFIED:20221121T150354Z
UID:4886-1668589200-1668600000@www.aimpulsa.com
SUMMARY:Granada es Inteligencia Artificial
DESCRIPTION:Encuentro Informativo ‘Granada es Inteligencia Artificial’\, organizado por Europa Press Andalucía. El evento contará con la participación del alcalde de Granada\, Francisco Cuenca\, de la rectora de la Universidad de Granada\, Pilar Aranda\, del delegado del Gobierno de la Junta de Andalucía en Granada\, Antonio Granados\, del presidente de la Diputación de Granada\, José Entrena\, y del CEO de INNOVASUR\, Juan José Prieto.
URL:https://www.aimpulsa.com/aimpulsa-events/granada-es-inteligencia-artificial/
ATTACH;FMTTYPE=image/jpeg:https://www.aimpulsa.com/wp-content/uploads/2022/11/Granada-es-inteligencia-Artificial-1.jpg
END:VEVENT
BEGIN:VEVENT
DTSTART;TZID=UTC:20221116T170000
DTEND;TZID=UTC:20221116T180000
DTSTAMP:20260423T231045
CREATED:20221116T130206Z
LAST-MODIFIED:20221202T133546Z
UID:4901-1668618000-1668621600@www.aimpulsa.com
SUMMARY:TALLER FAMILIAR SOBRE INTELIGENCIA ARTIFICIAL: Easy Plug: Introducción a la programación con arduinoblocks.
DESCRIPTION:Este taller familiar te iniciará en la programación en bloques mediante una nueva herramienta informática.
URL:https://www.aimpulsa.com/aimpulsa-events/taller-familiar-sobre-inteligencia-artificial-easy-plug-introduccion-a-la-programacion-con-arduinoblocks/
ATTACH;FMTTYPE=image/jpeg:https://www.aimpulsa.com/wp-content/uploads/2022/11/Taller-en-familia-1.jpg
END:VEVENT
BEGIN:VEVENT
DTSTART;TZID=UTC:20221118T110000
DTEND;TZID=UTC:20221118T110000
DTSTAMP:20260423T231045
CREATED:20221111T081706Z
LAST-MODIFIED:20221114T124522Z
UID:4837-1668769200-1668769200@www.aimpulsa.com
SUMMARY:Technology use in the judicial arena and AI Judging. A talk with Tania Sourdin and John Zeleznikow
DESCRIPTION:El viernes 18 de noviembre de 2022\, a las 11 horas\, tendrá lugar en la Sala de Vistas de la Facultad de Derecho de la Universidad de Granada\, una charla-coloquio en la que la Dra. Tania Sourdin y el Dr. John Zeleznikow\, Visiting Scholar en la Unidad de Excelencia de Investigación Sociedad Digital: Seguridad y Protección de Derechos\, abordarán cómo los jueces utilizan la tecnología y\, en particular\, cómo las formas de IA pueden remodelar los enfoques judiciales y la función judicial en el futuro. Se explorará la amplia variación en los enfoques internacionales\, así como los desarrollos en una serie de jurisdicciones\, junto con las preocupaciones del marco ético en torno a la materia.
URL:https://www.aimpulsa.com/aimpulsa-events/technology-use-in-the-judicial-arena-and-ai-judging-a-talk-with-tania-sourdin-and-john-zeleznikow/
ATTACH;FMTTYPE=image/jpeg:https://www.aimpulsa.com/wp-content/uploads/2022/11/Charla-Tania-Sourdin-scaled-1.jpg
END:VEVENT
END:VCALENDAR