BEGIN:VCALENDAR
VERSION:2.0
PRODID:-//aiMPULSA - ECPv6.15.20//NONSGML v1.0//EN
CALSCALE:GREGORIAN
METHOD:PUBLISH
X-WR-CALNAME:aiMPULSA
X-ORIGINAL-URL:https://www.aimpulsa.com
X-WR-CALDESC:Eventos para aiMPULSA
REFRESH-INTERVAL;VALUE=DURATION:PT1H
X-Robots-Tag:noindex
X-PUBLISHED-TTL:PT1H
BEGIN:VTIMEZONE
TZID:UTC
BEGIN:STANDARD
TZOFFSETFROM:+0000
TZOFFSETTO:+0000
TZNAME:UTC
DTSTART:20210101T000000
END:STANDARD
END:VTIMEZONE
BEGIN:VEVENT
DTSTART;TZID=UTC:20221202T080000
DTEND;TZID=UTC:20231001T170000
DTSTAMP:20260423T201352
CREATED:20221130T081517Z
LAST-MODIFIED:20221202T134142Z
UID:4919-1669968000-1696179600@www.aimpulsa.com
SUMMARY:Exposición ‘INTELIGENCIA ARTIFICIAL’ - Parque de las Ciencias de Granada
DESCRIPTION:La exposición es una exploración interactiva por la Inteligencia Artificial y sus aplicaciones a través de cinco áreas temáticas (Hogar Inteligente; Ciudad Inteligente; Trabajo Inteligente; Seguridad Inteligente y Sociedad Inteligente). El objetivo de la muestra es presentar ejemplos significativos de aplicaciones de la Inteligencia Artificial que repercuten en la vida cotidiana y en el trabajo. Además\, trata de proporcionar una comprensión básica de la tecnología y promover la sensibilidad de los visitantes en torno a cuestiones socio-éticas. \n\n\n\nInteligencia Artificial es fruto de una cooperación internacional de los museos europeos DASA (Museo Federal de la Salud en el Trabajo de Dortmund (Alemania); el Technisches Museum de Viena (Austria) y el Parque de las Ciencias (España) para producir y compartir exposiciones científicas bajo el lema común de ‘Un futuro sostenible. Progreso\, Innovación y Sostenibilidad’.
URL:https://www.aimpulsa.com/aimpulsa-events/exposicion-inteligencia-artificial/
ATTACH;FMTTYPE=image/jpeg:https://www.aimpulsa.com/wp-content/uploads/2022/11/Expoparque-1-1.jpg
END:VEVENT
BEGIN:VEVENT
DTSTART;TZID=UTC:20230110T170000
DTEND;TZID=UTC:20230110T183000
DTSTAMP:20260423T201352
CREATED:20221227T123223Z
LAST-MODIFIED:20221228T154456Z
UID:4927-1673370000-1673375400@www.aimpulsa.com
SUMMARY:Presentación del libro "El derecho y la Inteligencia Artificial" fruto del convenio de colaboración en formación entre el CGPJ y la UGR
DESCRIPTION:Hace ya 4 años\, en 2019\, comenzó un curso en colaboración entre dos instituciones tan importantes como el Consejo General del Poder Judicial y la Universidad de Granada\, sobre un tema\, la inteligencia artificial (IA)\, que entonces sonaba a ciencia ficción. La elección no era casual ni caprichosa\, la UGR se sitúa entre las mejores facultades de informática del mundo y a la vanguardia en investigación de derecho digital. La IA ya se decía que impulsaría la Cuarta Revolución Industrial y una transformación digital sin precedentes que\, por supuesto\, afectaría al mundo jurídico y judicial. Y el Consejo General del Poder Judicial ha querido adelantarse a los desafíos que se nos presentan.Ahora que se se habla de incluso de un «Derecho de los Robots»\, pretendemos dar respuesta a las principales preguntas sobre la materia. Un manual que aspiramos sea indispensable y de referencia\, al igual que creemos que el curso se ha consolidado como tal en este ámbito de derecho no sólo a nivel nacional\, sino también internacional.Habiendo contado durante estos años con ponentes de una excelente talla nacional e internacional\, vimos una excelente oportunidad de celebrar un tercer aniversario de este ilusionante proyecto recopilando las ponencias publicadas en el Centro de Documentación Judicial en las tres ediciones así como aquellas que se quedaron en el tintero. \n\n\n\nLugar: SALON DE ACTOS DEL CONSEJO GENERAL DEL PODER JUDICIAL (C/Marqués de la Ensenada nº 8\, MADRID). 
URL:https://www.aimpulsa.com/aimpulsa-events/presentacion-del-libro-el-derecho-y-la-inteligencia-artificial-fruto-del-convenio-de-colaboracion-en-formacion-entre-el-cgpj-y-la-ugr/
LOCATION:C/Marqués de la Ensenada nº 8\, MADRID\, C/Marqués de la Ensenada nº 8\,\, MADRID
ATTACH;FMTTYPE=image/jpeg:https://www.aimpulsa.com/wp-content/uploads/2022/12/Derecho_IA-1.jpg
END:VEVENT
END:VCALENDAR